BEGIN:VCALENDAR
VERSION:2.0
PRODID:-//The Hazmats - ECPv6.0.12//NONSGML v1.0//EN
CALSCALE:GREGORIAN
METHOD:PUBLISH
X-ORIGINAL-URL:https://www.thehazmats.com
X-WR-CALDESC:Events for The Hazmats
REFRESH-INTERVAL;VALUE=DURATION:PT1H
X-Robots-Tag:noindex
X-PUBLISHED-TTL:PT1H
BEGIN:VTIMEZONE
TZID:America/New_York
BEGIN:DAYLIGHT
TZOFFSETFROM:-0500
TZOFFSETTO:-0400
TZNAME:EDT
DTSTART:20240310T070000
END:DAYLIGHT
BEGIN:STANDARD
TZOFFSETFROM:-0400
TZOFFSETTO:-0500
TZNAME:EST
DTSTART:20241103T060000
END:STANDARD
END:VTIMEZONE
BEGIN:VEVENT
DTSTART;TZID=America/New_York:20240511T183000
DTEND;TZID=America/New_York:20240511T213000
DTSTAMP:20260422T112335
CREATED:20240302T004712Z
LAST-MODIFIED:20240302T005452Z
UID:1218-1715452200-1715463000@www.thehazmats.com
SUMMARY:The Hazmats Back @ Weyerbacher!
DESCRIPTION:The Hazmats will be back at Weyerbacher on 11 May! For those of you who joined us the last time\, we hope you’ll join us again! For those of you who missed us in March\, here’s your chance to make up for lost time! We’re looking forward to seeing all of you!
URL:https://www.thehazmats.com/upcoming-show/weyerbacher20240511/
LOCATION:The Tap Room at Weyerbacher\, 905 Line Street\, Suite G\, Easton\, PA\, 18042\, United States
END:VEVENT
END:VCALENDAR