BEGIN:VCALENDAR
VERSION:2.0
PRODID:-//The Hazmats - ECPv6.0.12//NONSGML v1.0//EN
CALSCALE:GREGORIAN
METHOD:PUBLISH
X-WR-CALNAME:The Hazmats
X-ORIGINAL-URL:https://www.thehazmats.com
X-WR-CALDESC:Events for The Hazmats
REFRESH-INTERVAL;VALUE=DURATION:PT1H
X-Robots-Tag:noindex
X-PUBLISHED-TTL:PT1H
BEGIN:VTIMEZONE
TZID:America/New_York
BEGIN:DAYLIGHT
TZOFFSETFROM:-0500
TZOFFSETTO:-0400
TZNAME:EDT
DTSTART:20240310T070000
END:DAYLIGHT
BEGIN:STANDARD
TZOFFSETFROM:-0400
TZOFFSETTO:-0500
TZNAME:EST
DTSTART:20241103T060000
END:STANDARD
END:VTIMEZONE
BEGIN:VEVENT
DTSTART;TZID=America/New_York:20240621T183000
DTEND;TZID=America/New_York:20240621T213000
DTSTAMP:20260422T093531
CREATED:20240517T135204Z
LAST-MODIFIED:20240517T135204Z
UID:1262-1718994600-1719005400@www.thehazmats.com
SUMMARY:'80's Night at Weyerbacher Brewing!!!
DESCRIPTION:That’s right … there’s an ’80’s night brewing at Weyerbacher on Friday\, 21 June!!! Join us as we play your favourites from the 1880’s – it’s sure to R O C K!!! \nOkay … it’s the 1980’s!  …  \n“and you may ask yourself\,” \n“‘Please\, please tell me now\,’ is this someplace I should go?” \nYes\, so be a Prince\, \nand if you’re someplace else\, “Beat it!” come to Weyerbacher\, and “Let’s Go Crazy!“ \nIt’s sure to R O C K !!!  We’ll see you there!!
URL:https://www.thehazmats.com/upcoming-show/80s-night-at-weyerbacher-brewing/
LOCATION:The Tap Room at Weyerbacher\, 905 Line Street\, Suite G\, Easton\, PA\, 18042\, United States
END:VEVENT
END:VCALENDAR