BEGIN:VCALENDAR
VERSION:2.0
PRODID:-//The Hazmats - ECPv6.0.12//NONSGML v1.0//EN
CALSCALE:GREGORIAN
METHOD:PUBLISH
X-ORIGINAL-URL:https://www.thehazmats.com
X-WR-CALDESC:Events for The Hazmats
REFRESH-INTERVAL;VALUE=DURATION:PT1H
X-Robots-Tag:noindex
X-PUBLISHED-TTL:PT1H
BEGIN:VTIMEZONE
TZID:America/New_York
BEGIN:DAYLIGHT
TZOFFSETFROM:-0500
TZOFFSETTO:-0400
TZNAME:EDT
DTSTART:20240310T070000
END:DAYLIGHT
BEGIN:STANDARD
TZOFFSETFROM:-0400
TZOFFSETTO:-0500
TZNAME:EST
DTSTART:20241103T060000
END:STANDARD
END:VTIMEZONE
BEGIN:VEVENT
DTSTART;TZID=America/New_York:20240727T180000
DTEND;TZID=America/New_York:20240727T210000
DTSTAMP:20260422T080325
CREATED:20240708T181132Z
LAST-MODIFIED:20240708T181607Z
UID:1283-1722103200-1722114000@www.thehazmats.com
SUMMARY:New Venue - The Hazmats at Weyerbacher Emmaus Tap Room
DESCRIPTION:A new venue … quite literally! Weyerbacher Brewing Company is celebrating the opening of a new Tap Room in Emmaus\, PA. Come out and celebrate\, too\, and hear us from 6 to 9 pm on Saturday\, 27 July!
URL:https://www.thehazmats.com/upcoming-show/weyerbacher-emmaus-tap-room-20240727/
LOCATION:Weyerbacher Emmaus Tap Room\, 518 Bank St.\, Emmaus\, PA\, 18049\, United States
END:VEVENT
END:VCALENDAR