BEGIN:VCALENDAR
VERSION:2.0
PRODID:-//The Hazmats - ECPv6.0.12//NONSGML v1.0//EN
CALSCALE:GREGORIAN
METHOD:PUBLISH
X-WR-CALNAME:The Hazmats
X-ORIGINAL-URL:https://www.thehazmats.com
X-WR-CALDESC:Events for The Hazmats
REFRESH-INTERVAL;VALUE=DURATION:PT1H
X-Robots-Tag:noindex
X-PUBLISHED-TTL:PT1H
BEGIN:VTIMEZONE
TZID:America/New_York
BEGIN:DAYLIGHT
TZOFFSETFROM:-0500
TZOFFSETTO:-0400
TZNAME:EDT
DTSTART:20240310T070000
END:DAYLIGHT
BEGIN:STANDARD
TZOFFSETFROM:-0400
TZOFFSETTO:-0500
TZNAME:EST
DTSTART:20241103T060000
END:STANDARD
END:VTIMEZONE
BEGIN:VEVENT
DTSTART;TZID=America/New_York:20241130T183000
DTEND;TZID=America/New_York:20241130T213000
DTSTAMP:20260422T022247
CREATED:20240924T204552Z
LAST-MODIFIED:20240924T204552Z
UID:1310-1732991400-1733002200@www.thehazmats.com
SUMMARY:Weyerbacher in Easton - The Tap Room
DESCRIPTION:We’ll be back at The Tap Room at Weyerbacher in Easton\, PA.  What a great way to spend the weekend with friends and family!  They won’t stop thanking you for rounding our their visit with this great Saturday night! \nI met a man who hailed from Tennessee and he was headed for Pennsylvania to see The Hazmats and their energetic performance at The Tap Room! \nThat’s one smart man. \nBe like him! \nJoin us! \nAt the Tap Room. \nAt Weyerbacher!
URL:https://www.thehazmats.com/upcoming-show/weyerbacher-tap-room-20241130/
LOCATION:The Tap Room at Weyerbacher\, 905 Line Street\, Suite G\, Easton\, PA\, 18042\, United States
END:VEVENT
END:VCALENDAR