BEGIN:VCALENDAR
VERSION:2.0
PRODID:-//The Hazmats - ECPv6.0.12//NONSGML v1.0//EN
CALSCALE:GREGORIAN
METHOD:PUBLISH
X-WR-CALNAME:The Hazmats
X-ORIGINAL-URL:https://www.thehazmats.com
X-WR-CALDESC:Events for The Hazmats
REFRESH-INTERVAL;VALUE=DURATION:PT1H
X-Robots-Tag:noindex
X-PUBLISHED-TTL:PT1H
BEGIN:VTIMEZONE
TZID:America/New_York
BEGIN:DAYLIGHT
TZOFFSETFROM:-0500
TZOFFSETTO:-0400
TZNAME:EDT
DTSTART:20250309T070000
END:DAYLIGHT
BEGIN:STANDARD
TZOFFSETFROM:-0400
TZOFFSETTO:-0500
TZNAME:EST
DTSTART:20251102T060000
END:STANDARD
END:VTIMEZONE
BEGIN:VEVENT
DTSTART;TZID=America/New_York:20250419T170000
DTEND;TZID=America/New_York:20250419T210000
DTSTAMP:20260421T195222
CREATED:20241231T154315Z
LAST-MODIFIED:20250414T143736Z
UID:1347-1745082000-1745096400@www.thehazmats.com
SUMMARY:Wanderlust Beer Garden (5:00 pm Start!)
DESCRIPTION:Note the 5:00 pm start time! \nCome join us as we kick off our 2025 season at Wanderlust Beer Garden in Forks Township\, PA. We’re looking forward to being back\, and to seeing you there!
URL:https://www.thehazmats.com/upcoming-show/wanderlust-20250419/
LOCATION:Wanderlust Beer Garden\, 1600 Sullivan Trail\, Forks Township\, PA\, 18040\, United States
END:VEVENT
END:VCALENDAR