BEGIN:VCALENDAR
VERSION:2.0
PRODID:-//The Hazmats - ECPv6.0.12//NONSGML v1.0//EN
CALSCALE:GREGORIAN
METHOD:PUBLISH
X-WR-CALNAME:The Hazmats
X-ORIGINAL-URL:https://www.thehazmats.com
X-WR-CALDESC:Events for The Hazmats
REFRESH-INTERVAL;VALUE=DURATION:PT1H
X-Robots-Tag:noindex
X-PUBLISHED-TTL:PT1H
BEGIN:VTIMEZONE
TZID:America/New_York
BEGIN:DAYLIGHT
TZOFFSETFROM:-0500
TZOFFSETTO:-0400
TZNAME:EDT
DTSTART:20250309T070000
END:DAYLIGHT
BEGIN:STANDARD
TZOFFSETFROM:-0400
TZOFFSETTO:-0500
TZNAME:EST
DTSTART:20251102T060000
END:STANDARD
END:VTIMEZONE
BEGIN:VEVENT
DTSTART;TZID=America/New_York:20250913T190000
DTEND;TZID=America/New_York:20250913T220000
DTSTAMP:20260421T131931
CREATED:20250527T195056Z
LAST-MODIFIED:20250527T195056Z
UID:1418-1757790000-1757800800@www.thehazmats.com
SUMMARY:Forks Community Days
DESCRIPTION:The Hazmats are back at Forks Community Days this September. Join us for food amusements\, and all kinds of fun!
URL:https://www.thehazmats.com/upcoming-show/forks-community-days-20250913/
LOCATION:Forks Township Community Park\, Forks Township Community Park  500 Zucksville Road Forks Township\, Easton\, PA\, 18040\, United States
END:VEVENT
END:VCALENDAR