BEGIN:VCALENDAR
VERSION:2.0
PRODID:-//The Hazmats - ECPv6.0.12//NONSGML v1.0//EN
CALSCALE:GREGORIAN
METHOD:PUBLISH
X-WR-CALNAME:The Hazmats
X-ORIGINAL-URL:https://www.thehazmats.com
X-WR-CALDESC:Events for The Hazmats
REFRESH-INTERVAL;VALUE=DURATION:PT1H
X-Robots-Tag:noindex
X-PUBLISHED-TTL:PT1H
BEGIN:VTIMEZONE
TZID:America/New_York
BEGIN:DAYLIGHT
TZOFFSETFROM:-0500
TZOFFSETTO:-0400
TZNAME:EDT
DTSTART:20240310T070000
END:DAYLIGHT
BEGIN:STANDARD
TZOFFSETFROM:-0400
TZOFFSETTO:-0500
TZNAME:EST
DTSTART:20241103T060000
END:STANDARD
END:VTIMEZONE
BEGIN:VEVENT
DTSTART;TZID=America/New_York:20240413T213000
DTEND;TZID=America/New_York:20240414T000000
DTSTAMP:20260422T110931
CREATED:20231030T140454Z
LAST-MODIFIED:20240404T154909Z
UID:1178-1713043800-1713052800@www.thehazmats.com
SUMMARY:The Rail at Readington (with Scott Harrington!)
DESCRIPTION:That’s right … Harrington at Readington … it’ll be a ton of fun!  Come join us and Scott at the Rail on Saturday\, 13 April! \nWe’ll see you then!
URL:https://www.thehazmats.com/upcoming-show/the-rail-at-readington-20230413/
LOCATION:The Rail at Readington\, 157 Main Street\, Whitehouse Station\, NJ\, 08889\, United States
END:VEVENT
BEGIN:VEVENT
DTSTART;TZID=America/New_York:20240419T173000
DTEND;TZID=America/New_York:20240419T213000
DTSTAMP:20260422T110931
CREATED:20231113T163415Z
LAST-MODIFIED:20231113T163415Z
UID:1186-1713547800-1713562200@www.thehazmats.com
SUMMARY:The Hazmats Back at Wanderlust Beer Garden!
DESCRIPTION:That’s right:  The Hazmats will be back at Wanderlust Beer Garden in 2024!  Come join us for a great afternoon and evening of music and fun!  We have several shows lined up here for the year\, too.  ‘See you there!
URL:https://www.thehazmats.com/upcoming-show/the-hazmats-at-wanderlust-beer-garden-20240419/
LOCATION:Wanderlust Beer Garden\, 1600 Sullivan Trail\, Forks Township\, PA\, 18040\, United States
END:VEVENT
END:VCALENDAR