BEGIN:VCALENDAR
VERSION:2.0
PRODID:-//The Hazmats - ECPv6.0.12//NONSGML v1.0//EN
CALSCALE:GREGORIAN
METHOD:PUBLISH
X-WR-CALNAME:The Hazmats
X-ORIGINAL-URL:https://www.thehazmats.com
X-WR-CALDESC:Events for The Hazmats
REFRESH-INTERVAL;VALUE=DURATION:PT1H
X-Robots-Tag:noindex
X-PUBLISHED-TTL:PT1H
BEGIN:VTIMEZONE
TZID:America/New_York
BEGIN:DAYLIGHT
TZOFFSETFROM:-0500
TZOFFSETTO:-0400
TZNAME:EDT
DTSTART:20240310T070000
END:DAYLIGHT
BEGIN:STANDARD
TZOFFSETFROM:-0400
TZOFFSETTO:-0500
TZNAME:EST
DTSTART:20241103T060000
END:STANDARD
END:VTIMEZONE
BEGIN:VEVENT
DTSTART;TZID=America/New_York:20240815T180000
DTEND;TZID=America/New_York:20240815T203000
DTSTAMP:20260422T051803
CREATED:20231128T202020Z
LAST-MODIFIED:20240806T153133Z
UID:1202-1723744800-1723753800@www.thehazmats.com
SUMMARY:The Hazmats - Live at the Falls!
DESCRIPTION:There’s nothing like some fun at the riverside with some great live music.  Come join us “Live at the Falls” at Scott Park\, with special guest Scott Harrington\, on Larry Holmes Drive in Easton\, PA – Thursday evening\, 15 August 2024!
URL:https://www.thehazmats.com/upcoming-show/the-hazmats-live-at-the-falls-20240815/
LOCATION:Scott Park\, 128 Larry Holmes Drive\, Easton\, PA\, 18042\, United States
END:VEVENT
END:VCALENDAR