BEGIN:VCALENDAR
VERSION:2.0
PRODID:-//The Hazmats - ECPv6.0.12//NONSGML v1.0//EN
CALSCALE:GREGORIAN
METHOD:PUBLISH
X-WR-CALNAME:The Hazmats
X-ORIGINAL-URL:https://www.thehazmats.com
X-WR-CALDESC:Events for The Hazmats
REFRESH-INTERVAL;VALUE=DURATION:PT1H
X-Robots-Tag:noindex
X-PUBLISHED-TTL:PT1H
BEGIN:VTIMEZONE
TZID:America/New_York
BEGIN:DAYLIGHT
TZOFFSETFROM:-0500
TZOFFSETTO:-0400
TZNAME:EDT
DTSTART:20240310T070000
END:DAYLIGHT
BEGIN:STANDARD
TZOFFSETFROM:-0400
TZOFFSETTO:-0500
TZNAME:EST
DTSTART:20241103T060000
END:STANDARD
END:VTIMEZONE
BEGIN:VEVENT
DTSTART;VALUE=DATE:20240901
DTEND;VALUE=DATE:20240902
DTSTAMP:20260422T034745
CREATED:20240715T191628Z
LAST-MODIFIED:20240715T191628Z
UID:1289-1725148800-1725235199@www.thehazmats.com
SUMMARY:Private Event
DESCRIPTION:“I can’t tell.” \n“You can tell me.  I’m a doctor.”
URL:https://www.thehazmats.com/upcoming-show/private-event-20240901/
LOCATION:PA
END:VEVENT
BEGIN:VEVENT
DTSTART;TZID=America/New_York:20240920T173000
DTEND;TZID=America/New_York:20240920T213000
DTSTAMP:20260422T034745
CREATED:20231113T184919Z
LAST-MODIFIED:20231113T184919Z
UID:1196-1726853400-1726867800@www.thehazmats.com
SUMMARY:The Hazmats at Wanderlust Beer Garden
DESCRIPTION:That’s right:  The Hazmats are back at Wanderlust Beer Garden in 2024!  Come join us for a great afternoon and evening of music and fun!  We have several shows lined up here for the year\, too.  ‘See you there!
URL:https://www.thehazmats.com/upcoming-show/the-hazmats-at-wanderlust-beer-garden-20240920/
LOCATION:Wanderlust Beer Garden\, 1600 Sullivan Trail\, Forks Township\, PA\, 18040\, United States
END:VEVENT
BEGIN:VEVENT
DTSTART;TZID=America/New_York:20240921T210000
DTEND;TZID=America/New_York:20240922T000000
DTSTAMP:20260422T034745
CREATED:20240731T191858Z
LAST-MODIFIED:20240731T203325Z
UID:1296-1726952400-1726963200@www.thehazmats.com
SUMMARY:The Hazmats at The Rail in Readington!
DESCRIPTION:Thanks to all of you who continue to see us at The Rail in Readington. It’s always such a great and supportive turnout. \nWe’re back in Whitehouse Station\, NJ on Saturday\, 21 September\, and we’re looking forward to seeing you again!
URL:https://www.thehazmats.com/upcoming-show/the-hazmats-rail-in-readington-20240921/
LOCATION:The Rail at Readington\, 157 Main Street\, Whitehouse Station\, NJ\, 08889\, United States
END:VEVENT
BEGIN:VEVENT
DTSTART;TZID=America/New_York:20240928T180000
DTEND;TZID=America/New_York:20240928T210000
DTSTAMP:20260422T034745
CREATED:20240731T192354Z
LAST-MODIFIED:20240731T192637Z
UID:1298-1727546400-1727557200@www.thehazmats.com
SUMMARY:Jersey Girl Brewing Company
DESCRIPTION:We’re back in Mt. Olive\, NJ on Saturday\, 28 September at Jersey Girl Brewing Company. As always\, we had a blast there last time (thank you!!!) and we’re sure you did\, too! \nCome join us for an evening of great music and fun. We’re looking forward to seeing you there!
URL:https://www.thehazmats.com/upcoming-show/jersey-girl-brewing-co-20240928/
LOCATION:Jersey Girl Brewing Co\, 426 Sand Shore Road\, Mount Olive\, NJ\, 07840\, United States
END:VEVENT
END:VCALENDAR