BEGIN:VCALENDAR
VERSION:2.0
PRODID:-//The Hazmats - ECPv6.0.12//NONSGML v1.0//EN
CALSCALE:GREGORIAN
METHOD:PUBLISH
X-WR-CALNAME:The Hazmats
X-ORIGINAL-URL:https://www.thehazmats.com
X-WR-CALDESC:Events for The Hazmats
REFRESH-INTERVAL;VALUE=DURATION:PT1H
X-Robots-Tag:noindex
X-PUBLISHED-TTL:PT1H
BEGIN:VTIMEZONE
TZID:America/New_York
BEGIN:DAYLIGHT
TZOFFSETFROM:-0500
TZOFFSETTO:-0400
TZNAME:EDT
DTSTART:20250309T070000
END:DAYLIGHT
BEGIN:STANDARD
TZOFFSETFROM:-0400
TZOFFSETTO:-0500
TZNAME:EST
DTSTART:20251102T060000
END:STANDARD
END:VTIMEZONE
BEGIN:VEVENT
DTSTART;TZID=America/New_York:20250510T053000
DTEND;TZID=America/New_York:20250510T213000
DTSTAMP:20260421T171310
CREATED:20250101T200213Z
LAST-MODIFIED:20250101T200213Z
UID:1357-1746855000-1746912600@www.thehazmats.com
SUMMARY:Wanderlust Beer Garden
DESCRIPTION:We continue our residency at Wanderlust Beer Garden on 10 May 2025!\n’Always a great time\, so please join us!
URL:https://www.thehazmats.com/upcoming-show/wanderlust-20250510/
LOCATION:Wanderlust Beer Garden\, 1600 Sullivan Trail\, Forks Township\, PA\, 18040\, United States
END:VEVENT
BEGIN:VEVENT
DTSTART;TZID=America/New_York:20250517T180000
DTEND;TZID=America/New_York:20250517T210000
DTSTAMP:20260421T171310
CREATED:20250101T200933Z
LAST-MODIFIED:20250101T200933Z
UID:1360-1747504800-1747515600@www.thehazmats.com
SUMMARY:Foundation Tavern\, Wescosville (New Venue!)
DESCRIPTION:We’ll be at another new venue this May! We’re excited to be at the Foundation Tavern in Wescosville this 17 May 2025.
URL:https://www.thehazmats.com/upcoming-show/foundation-tavern-20250517/
LOCATION:Foundation Tavern\, 1160 S Krocks Rd\, Wescosville\, PA\, 18106-9603\, United States
END:VEVENT
BEGIN:VEVENT
DTSTART;TZID=America/New_York:20250524T180000
DTEND;TZID=America/New_York:20250524T210000
DTSTAMP:20260421T171310
CREATED:20250512T141824Z
LAST-MODIFIED:20250512T141824Z
UID:1398-1748109600-1748120400@www.thehazmats.com
SUMMARY:Jersey Girl Brewing Company
DESCRIPTION:
URL:https://www.thehazmats.com/upcoming-show/jersey-girl-brewing-company_20250524/
LOCATION:Jersey Girl Brewing Co\, 426 Sand Shore Road\, Mount Olive\, NJ\, 07840\, United States
END:VEVENT
BEGIN:VEVENT
DTSTART;TZID=America/New_York:20250531T213000
DTEND;TZID=America/New_York:20250601T013000
DTSTAMP:20260421T171310
CREATED:20250512T142648Z
LAST-MODIFIED:20250516T173943Z
UID:1400-1748727000-1748741400@www.thehazmats.com
SUMMARY:The Hazmats with DJ Brad Scott at The Lafayette Bar! (New Venue)
DESCRIPTION:
URL:https://www.thehazmats.com/upcoming-show/the-hazmats-and-dj-brad-scott-lafayettebar/
LOCATION:The Lafayette Bar\, 15 N 4th Street\, Easton\, PA\, 18042\, United States
END:VEVENT
END:VCALENDAR