BEGIN:VCALENDAR
VERSION:2.0
PRODID:-//The Hazmats - ECPv6.0.12//NONSGML v1.0//EN
CALSCALE:GREGORIAN
METHOD:PUBLISH
X-ORIGINAL-URL:https://www.thehazmats.com
X-WR-CALDESC:Events for The Hazmats
REFRESH-INTERVAL;VALUE=DURATION:PT1H
X-Robots-Tag:noindex
X-PUBLISHED-TTL:PT1H
BEGIN:VTIMEZONE
TZID:America/New_York
BEGIN:DAYLIGHT
TZOFFSETFROM:-0500
TZOFFSETTO:-0400
TZNAME:EDT
DTSTART:20250309T070000
END:DAYLIGHT
BEGIN:STANDARD
TZOFFSETFROM:-0400
TZOFFSETTO:-0500
TZNAME:EST
DTSTART:20251102T060000
END:STANDARD
END:VTIMEZONE
BEGIN:VEVENT
DTSTART;TZID=America/New_York:20250531T213000
DTEND;TZID=America/New_York:20250601T013000
DTSTAMP:20260421T155940
CREATED:20250512T142648Z
LAST-MODIFIED:20250516T173943Z
UID:1400-1748727000-1748741400@www.thehazmats.com
SUMMARY:The Hazmats with DJ Brad Scott at The Lafayette Bar! (New Venue)
DESCRIPTION:
URL:https://www.thehazmats.com/upcoming-show/the-hazmats-and-dj-brad-scott-lafayettebar/
LOCATION:The Lafayette Bar\, 15 N 4th Street\, Easton\, PA\, 18042\, United States
END:VEVENT
BEGIN:VEVENT
DTSTART;TZID=America/New_York:20250607T183000
DTEND;TZID=America/New_York:20250607T213000
DTSTAMP:20260421T155940
CREATED:20250102T175727Z
LAST-MODIFIED:20250102T175727Z
UID:1364-1749321000-1749331800@www.thehazmats.com
SUMMARY:The Tap Room at Weyerbacher - Easton
DESCRIPTION:
URL:https://www.thehazmats.com/upcoming-show/weyerbacher-easton-20250607/
LOCATION:The Tap Room at Weyerbacher\, 905 Line Street\, Suite G\, Easton\, PA\, 18042\, United States
END:VEVENT
BEGIN:VEVENT
DTSTART;TZID=America/New_York:20250621T173000
DTEND;TZID=America/New_York:20250621T213000
DTSTAMP:20260421T155940
CREATED:20250301T024241Z
LAST-MODIFIED:20250301T024241Z
UID:1382-1750527000-1750541400@www.thehazmats.com
SUMMARY:Wanderlust Beer Garden
DESCRIPTION:
URL:https://www.thehazmats.com/upcoming-show/wanderlust-beer-garden/
LOCATION:Wanderlust Beer Garden\, 1600 Sullivan Trail\, Forks Township\, PA\, 18040\, United States
END:VEVENT
BEGIN:VEVENT
DTSTART;TZID=America/New_York:20250628T180000
DTEND;TZID=America/New_York:20250628T180000
DTSTAMP:20260421T155940
CREATED:20250527T192630Z
LAST-MODIFIED:20250527T192630Z
UID:1412-1751133600-1751133600@www.thehazmats.com
SUMMARY:Private Event
DESCRIPTION:(((It’s a secret!)))
URL:https://www.thehazmats.com/upcoming-show/private-event20250628/
LOCATION:PA
END:VEVENT
END:VCALENDAR