BEGIN:VCALENDAR
VERSION:2.0
PRODID:-//The Hazmats - ECPv6.0.12//NONSGML v1.0//EN
CALSCALE:GREGORIAN
METHOD:PUBLISH
X-ORIGINAL-URL:https://www.thehazmats.com
X-WR-CALDESC:Events for The Hazmats
REFRESH-INTERVAL;VALUE=DURATION:PT1H
X-Robots-Tag:noindex
X-PUBLISHED-TTL:PT1H
BEGIN:VTIMEZONE
TZID:America/New_York
BEGIN:DAYLIGHT
TZOFFSETFROM:-0500
TZOFFSETTO:-0400
TZNAME:EDT
DTSTART:20250309T070000
END:DAYLIGHT
BEGIN:STANDARD
TZOFFSETFROM:-0400
TZOFFSETTO:-0500
TZNAME:EST
DTSTART:20251102T060000
END:STANDARD
END:VTIMEZONE
BEGIN:VEVENT
DTSTART;TZID=America/New_York:20250705T170000
DTEND;TZID=America/New_York:20250705T170000
DTSTAMP:20260421T144634
CREATED:20250309T152810Z
LAST-MODIFIED:20250527T205836Z
UID:1386-1751734800-1751734800@www.thehazmats.com
SUMMARY:Pirate Event
DESCRIPTION:Did I write “Pirate?” I meant “Private.”
URL:https://www.thehazmats.com/upcoming-show/private-event-20250705/
LOCATION:PA
END:VEVENT
BEGIN:VEVENT
DTSTART;TZID=America/New_York:20250710T180000
DTEND;TZID=America/New_York:20250710T203000
DTSTAMP:20260421T144634
CREATED:20250603T005337Z
LAST-MODIFIED:20250703T122724Z
UID:1431-1752170400-1752179400@www.thehazmats.com
SUMMARY:Live at the Falls
DESCRIPTION:We’re Live at the Falls again at Scott Park this year. Join us on Thursday\, 10 July!\nWe can’t wait to see you there!
URL:https://www.thehazmats.com/upcoming-show/latf-20250710/
LOCATION:Scott Park\, 128 Larry Holmes Drive\, Easton\, PA\, 18042\, United States
END:VEVENT
BEGIN:VEVENT
DTSTART;TZID=America/New_York:20250719T173000
DTEND;TZID=America/New_York:20250719T213000
DTSTAMP:20260421T144634
CREATED:20250309T153525Z
LAST-MODIFIED:20250309T154407Z
UID:1388-1752946200-1752960600@www.thehazmats.com
SUMMARY:The Hazmats at Wanderlust Beer Garden
DESCRIPTION:We’ll be back at Wanderlust Beer Garden! Join us for a wonderful mid-summer evening and lots of fun! Well see you there!
URL:https://www.thehazmats.com/upcoming-show/wanderlust-beer-garden-20250719/
LOCATION:Wanderlust Beer Garden\, 1600 Sullivan Trail\, Forks Township\, PA\, 18040\, United States
END:VEVENT
BEGIN:VEVENT
DTSTART;TZID=America/New_York:20250726T170000
DTEND;TZID=America/New_York:20250726T190000
DTSTAMP:20260421T144634
CREATED:20250309T155556Z
LAST-MODIFIED:20250724T225746Z
UID:1390-1753549200-1753556400@www.thehazmats.com
SUMMARY:Martin on Main
DESCRIPTION:We’re thrilled to be part of this year’s Martin on Main festival.  Join us on Saturday\, 26 July in the heart of Nazareth. We’ll be on the corner of Main & Belvidere from 5-7 pm\, and there will be lots of live performances throughout the afternoon.\nThere will even be a raffle\, with a chance to win a Martin Guitar! Well see you there!
URL:https://www.thehazmats.com/upcoming-show/martin-on-main-20250726/
LOCATION:PA
END:VEVENT
END:VCALENDAR